BEGIN:VCALENDAR
VERSION:2.0
PRODID:-//Realschule Höchberg - ECPv6.15.14//NONSGML v1.0//EN
CALSCALE:GREGORIAN
METHOD:PUBLISH
X-ORIGINAL-URL:https://www.realschule-hoechberg.de
X-WR-CALDESC:Veranstaltungen für Realschule Höchberg
REFRESH-INTERVAL;VALUE=DURATION:PT1H
X-Robots-Tag:noindex
X-PUBLISHED-TTL:PT1H
BEGIN:VTIMEZONE
TZID:Europe/Berlin
BEGIN:DAYLIGHT
TZOFFSETFROM:+0100
TZOFFSETTO:+0200
TZNAME:CEST
DTSTART:20200329T010000
END:DAYLIGHT
BEGIN:STANDARD
TZOFFSETFROM:+0200
TZOFFSETTO:+0100
TZNAME:CET
DTSTART:20201025T010000
END:STANDARD
BEGIN:DAYLIGHT
TZOFFSETFROM:+0100
TZOFFSETTO:+0200
TZNAME:CEST
DTSTART:20210328T010000
END:DAYLIGHT
BEGIN:STANDARD
TZOFFSETFROM:+0200
TZOFFSETTO:+0100
TZNAME:CET
DTSTART:20211031T010000
END:STANDARD
BEGIN:DAYLIGHT
TZOFFSETFROM:+0100
TZOFFSETTO:+0200
TZNAME:CEST
DTSTART:20220327T010000
END:DAYLIGHT
BEGIN:STANDARD
TZOFFSETFROM:+0200
TZOFFSETTO:+0100
TZNAME:CET
DTSTART:20221030T010000
END:STANDARD
BEGIN:DAYLIGHT
TZOFFSETFROM:+0100
TZOFFSETTO:+0200
TZNAME:CEST
DTSTART:20230326T010000
END:DAYLIGHT
BEGIN:STANDARD
TZOFFSETFROM:+0200
TZOFFSETTO:+0100
TZNAME:CET
DTSTART:20231029T010000
END:STANDARD
BEGIN:DAYLIGHT
TZOFFSETFROM:+0100
TZOFFSETTO:+0200
TZNAME:CEST
DTSTART:20240331T010000
END:DAYLIGHT
BEGIN:STANDARD
TZOFFSETFROM:+0200
TZOFFSETTO:+0100
TZNAME:CET
DTSTART:20241027T010000
END:STANDARD
END:VTIMEZONE
BEGIN:VEVENT
DTSTART;VALUE=DATE:20230315
DTEND;VALUE=DATE:20230316
DTSTAMP:20260424T113631
CREATED:20230303T073039Z
LAST-MODIFIED:20230303T073249Z
UID:5336-1678838400-1678924799@www.realschule-hoechberg.de
SUMMARY:Cybermobbing - Infoveranstaltung der Polizei für 8. Klassen
DESCRIPTION:
URL:https://www.realschule-hoechberg.de/termin/cybermobbing-infoveranstaltung-der-polizei-fuer-8-klassen-2/
LOCATION:Leopold-Sonnemann-Realschule Höchberg\, Rudolf-Harbig-Platz 7\, Höchberg\, Bayern\, 97204
CATEGORIES:Infoveranstaltung
END:VEVENT
BEGIN:VEVENT
DTSTART;VALUE=DATE:20210730
DTEND;VALUE=DATE:20210914
DTSTAMP:20260424T113631
CREATED:20200910T142327Z
LAST-MODIFIED:20200910T142327Z
UID:3126-1627603200-1631577599@www.realschule-hoechberg.de
SUMMARY:Sommerferien
DESCRIPTION:
URL:https://www.realschule-hoechberg.de/termin/sommerferien-2/
LOCATION:Bayern
CATEGORIES:Sonstiges
END:VEVENT
BEGIN:VEVENT
DTSTART;TZID=Europe/Berlin:20210914T080000
DTEND;TZID=Europe/Berlin:20210914T111500
DTSTAMP:20260424T113631
CREATED:20210913T141607Z
LAST-MODIFIED:20210913T142329Z
UID:4363-1631606400-1631618100@www.realschule-hoechberg.de
SUMMARY:1. Schultag für 6. - 10. Klassen
DESCRIPTION:Schultag: Klassenleiterstunden und Gottesdienst\, 11:15 Uhr Unterrichtsende
URL:https://www.realschule-hoechberg.de/termin/1-schultag/
LOCATION:Leopold-Sonnemann-Realschule Höchberg\, Rudolf-Harbig-Platz 7\, Höchberg\, Bayern\, 97204
CATEGORIES:Infoveranstaltung
END:VEVENT
BEGIN:VEVENT
DTSTART;TZID=Europe/Berlin:20210914T081500
DTEND;TZID=Europe/Berlin:20210914T111500
DTSTAMP:20260424T113631
CREATED:20210913T141729Z
LAST-MODIFIED:20210913T142238Z
UID:4365-1631607300-1631618100@www.realschule-hoechberg.de
SUMMARY:1. Schultag für 5. Klassen
DESCRIPTION:Treffpunkt: Großer Pausenhof \nanschließend Klassenleiterstunden und Gottesdienst.
URL:https://www.realschule-hoechberg.de/termin/1-schultag-fuer-5-klassen/
LOCATION:Leopold-Sonnemann-Realschule Höchberg\, Rudolf-Harbig-Platz 7\, Höchberg\, Bayern\, 97204
CATEGORIES:Infoveranstaltung
END:VEVENT
BEGIN:VEVENT
DTSTART;TZID=Europe/Berlin:20210923T190000
DTEND;TZID=Europe/Berlin:20210923T203000
DTSTAMP:20260424T113631
CREATED:20210921T083650Z
LAST-MODIFIED:20210921T083650Z
UID:4403-1632423600-1632429000@www.realschule-hoechberg.de
SUMMARY:Elternabend 5. Klassen
DESCRIPTION:
URL:https://www.realschule-hoechberg.de/termin/elternabend-5-klassen-2/
LOCATION:Leopold-Sonnemann-Realschule Höchberg\, Rudolf-Harbig-Platz 7\, Höchberg\, Bayern\, 97204
CATEGORIES:Infoveranstaltung
END:VEVENT
BEGIN:VEVENT
DTSTART;TZID=Europe/Berlin:20210923T191500
DTEND;TZID=Europe/Berlin:20210923T204500
DTSTAMP:20260424T113631
CREATED:20210921T083740Z
LAST-MODIFIED:20210921T083740Z
UID:4405-1632424500-1632429900@www.realschule-hoechberg.de
SUMMARY:Elternabend 10. Klassen
DESCRIPTION:
URL:https://www.realschule-hoechberg.de/termin/elternabend-10-klassen/
LOCATION:Leopold-Sonnemann-Realschule Höchberg\, Rudolf-Harbig-Platz 7\, Höchberg\, Bayern\, 97204
CATEGORIES:Infoveranstaltung
END:VEVENT
BEGIN:VEVENT
DTSTART;TZID=Europe/Berlin:20210924T080000
DTEND;TZID=Europe/Berlin:20210924T130000
DTSTAMP:20260424T113631
CREATED:20210913T141821Z
LAST-MODIFIED:20210913T141821Z
UID:4367-1632470400-1632488400@www.realschule-hoechberg.de
SUMMARY:1. Wandertag
DESCRIPTION:
URL:https://www.realschule-hoechberg.de/termin/1-wandertag/
LOCATION:Bayern
CATEGORIES:Klassenfahrt/ Ausflug
END:VEVENT
BEGIN:VEVENT
DTSTART;TZID=Europe/Berlin:20210927T080000
DTEND;TZID=Europe/Berlin:20211001T170000
DTSTAMP:20260424T113631
CREATED:20210921T084227Z
LAST-MODIFIED:20210921T084227Z
UID:4415-1632729600-1633107600@www.realschule-hoechberg.de
SUMMARY:Studienfahrten Klassen 10B\, 10C\, 10D\, 10E
DESCRIPTION:
URL:https://www.realschule-hoechberg.de/termin/studienfahrten-klassen-10b-10c-10d-10e/
LOCATION:Bayern
CATEGORIES:Klassenfahrt/ Ausflug
END:VEVENT
BEGIN:VEVENT
DTSTART;TZID=Europe/Berlin:20210927T190000
DTEND;TZID=Europe/Berlin:20210927T203000
DTSTAMP:20260424T113631
CREATED:20210921T083904Z
LAST-MODIFIED:20210921T083904Z
UID:4407-1632769200-1632774600@www.realschule-hoechberg.de
SUMMARY:Elternabend 6. Klassen
DESCRIPTION:
URL:https://www.realschule-hoechberg.de/termin/elternabend-6-klassen/
LOCATION:Leopold-Sonnemann-Realschule Höchberg\, Rudolf-Harbig-Platz 7\, Höchberg\, Bayern\, 97204
CATEGORIES:Infoveranstaltung
END:VEVENT
BEGIN:VEVENT
DTSTART;TZID=Europe/Berlin:20210927T191500
DTEND;TZID=Europe/Berlin:20210927T204500
DTSTAMP:20260424T113631
CREATED:20210921T083953Z
LAST-MODIFIED:20210921T083953Z
UID:4409-1632770100-1632775500@www.realschule-hoechberg.de
SUMMARY:Elternabend 8. Klassen
DESCRIPTION:
URL:https://www.realschule-hoechberg.de/termin/elternabend-8-klassen/
LOCATION:Leopold-Sonnemann-Realschule Höchberg\, Rudolf-Harbig-Platz 7\, Höchberg\, Bayern\, 97204
CATEGORIES:Infoveranstaltung
END:VEVENT
BEGIN:VEVENT
DTSTART;TZID=Europe/Berlin:20210928T190000
DTEND;TZID=Europe/Berlin:20210928T203000
DTSTAMP:20260424T113631
CREATED:20210921T084033Z
LAST-MODIFIED:20210921T084033Z
UID:4411-1632855600-1632861000@www.realschule-hoechberg.de
SUMMARY:Elternabend 7. Klassen
DESCRIPTION:
URL:https://www.realschule-hoechberg.de/termin/elternabend-7-klassen-2/
LOCATION:Leopold-Sonnemann-Realschule Höchberg\, Rudolf-Harbig-Platz 7\, Höchberg\, Bayern\, 97204
CATEGORIES:Infoveranstaltung
END:VEVENT
BEGIN:VEVENT
DTSTART;TZID=Europe/Berlin:20210928T191500
DTEND;TZID=Europe/Berlin:20210928T204500
DTSTAMP:20260424T113631
CREATED:20210921T084109Z
LAST-MODIFIED:20210921T084109Z
UID:4413-1632856500-1632861900@www.realschule-hoechberg.de
SUMMARY:Elternabend 9. Klassen
DESCRIPTION:
URL:https://www.realschule-hoechberg.de/termin/elternabend-9-klassen/
LOCATION:Leopold-Sonnemann-Realschule Höchberg\, Rudolf-Harbig-Platz 7\, Höchberg\, Bayern\, 97204
CATEGORIES:Infoveranstaltung
END:VEVENT
BEGIN:VEVENT
DTSTART;VALUE=DATE:20210929
DTEND;VALUE=DATE:20210930
DTSTAMP:20260424T113631
CREATED:20210921T084322Z
LAST-MODIFIED:20210930T085346Z
UID:4417-1632873600-1632959999@www.realschule-hoechberg.de
SUMMARY:Grundwissentest Mathematik 7. Jgst.
DESCRIPTION:
URL:https://www.realschule-hoechberg.de/termin/grundwissentest-mathematik-7-jgst-2/
LOCATION:Leopold-Sonnemann-Realschule Höchberg\, Rudolf-Harbig-Platz 7\, Höchberg\, Bayern\, 97204
CATEGORIES:Anmeldung/ Tests
END:VEVENT
BEGIN:VEVENT
DTSTART;VALUE=DATE:20210930
DTEND;VALUE=DATE:20211001
DTSTAMP:20260424T113631
CREATED:20210921T084508Z
LAST-MODIFIED:20210921T084508Z
UID:4419-1632960000-1633046399@www.realschule-hoechberg.de
SUMMARY:Jahrgangsstufentest: Deutsch 6. Jgst.
DESCRIPTION:
URL:https://www.realschule-hoechberg.de/termin/jahrgangsstufentest-deutsch-6-jgst/
LOCATION:Leopold-Sonnemann-Realschule Höchberg\, Rudolf-Harbig-Platz 7\, Höchberg\, Bayern\, 97204
CATEGORIES:Anmeldung/ Tests
END:VEVENT
BEGIN:VEVENT
DTSTART;VALUE=DATE:20210930
DTEND;VALUE=DATE:20211001
DTSTAMP:20260424T113631
CREATED:20210921T084538Z
LAST-MODIFIED:20210921T084538Z
UID:4421-1632960000-1633046399@www.realschule-hoechberg.de
SUMMARY:Jahrgangsstufentest: Mathematik 8. Jgst.
DESCRIPTION:
URL:https://www.realschule-hoechberg.de/termin/jahrgangsstufentest-mathematik-8-jgst/
LOCATION:Leopold-Sonnemann-Realschule Höchberg\, Rudolf-Harbig-Platz 7\, Höchberg\, Bayern\, 97204
CATEGORIES:Anmeldung/ Tests
END:VEVENT
BEGIN:VEVENT
DTSTART;VALUE=DATE:20210930
DTEND;VALUE=DATE:20211001
DTSTAMP:20260424T113631
CREATED:20210921T084613Z
LAST-MODIFIED:20210921T084613Z
UID:4423-1632960000-1633046399@www.realschule-hoechberg.de
SUMMARY:Grundwissentest Mathematik 9. Jgst.
DESCRIPTION:
URL:https://www.realschule-hoechberg.de/termin/grundwissentest-mathematik-9-jgst-2/
LOCATION:Leopold-Sonnemann-Realschule Höchberg\, Rudolf-Harbig-Platz 7\, Höchberg\, Bayern\, 97204
CATEGORIES:Anmeldung/ Tests
END:VEVENT
BEGIN:VEVENT
DTSTART;TZID=Europe/Berlin:20210930T180000
DTEND;TZID=Europe/Berlin:20210930T210000
DTSTAMP:20260424T113631
CREATED:20210921T084712Z
LAST-MODIFIED:20210921T084712Z
UID:4425-1633024800-1633035600@www.realschule-hoechberg.de
SUMMARY:Blutspendeaktion des BRK
DESCRIPTION:
URL:https://www.realschule-hoechberg.de/termin/blutspendeaktion-des-brk/
LOCATION:Leopold-Sonnemann-Realschule Höchberg\, Rudolf-Harbig-Platz 7\, Höchberg\, Bayern\, 97204
CATEGORIES:Sonstiges
END:VEVENT
BEGIN:VEVENT
DTSTART;TZID=Europe/Berlin:20210930T190000
DTEND;TZID=Europe/Berlin:20210930T210000
DTSTAMP:20260424T113631
CREATED:20210927T062058Z
LAST-MODIFIED:20210927T062058Z
UID:4459-1633028400-1633035600@www.realschule-hoechberg.de
SUMMARY:Elternbeiratssitzung
DESCRIPTION:
URL:https://www.realschule-hoechberg.de/termin/elternbeiratssitzung/
LOCATION:Leopold-Sonnemann-Realschule Höchberg\, Rudolf-Harbig-Platz 7\, Höchberg\, Bayern\, 97204
CATEGORIES:Sonstiges
END:VEVENT
END:VCALENDAR