BEGIN:VCALENDAR
VERSION:2.0
PRODID:-//Realschule Höchberg - ECPv6.15.14//NONSGML v1.0//EN
CALSCALE:GREGORIAN
METHOD:PUBLISH
X-WR-CALNAME:Realschule Höchberg
X-ORIGINAL-URL:https://www.realschule-hoechberg.de
X-WR-CALDESC:Veranstaltungen für Realschule Höchberg
REFRESH-INTERVAL;VALUE=DURATION:PT1H
X-Robots-Tag:noindex
X-PUBLISHED-TTL:PT1H
BEGIN:VTIMEZONE
TZID:Europe/Berlin
BEGIN:DAYLIGHT
TZOFFSETFROM:+0100
TZOFFSETTO:+0200
TZNAME:CEST
DTSTART:20200329T010000
END:DAYLIGHT
BEGIN:STANDARD
TZOFFSETFROM:+0200
TZOFFSETTO:+0100
TZNAME:CET
DTSTART:20201025T010000
END:STANDARD
BEGIN:DAYLIGHT
TZOFFSETFROM:+0100
TZOFFSETTO:+0200
TZNAME:CEST
DTSTART:20210328T010000
END:DAYLIGHT
BEGIN:STANDARD
TZOFFSETFROM:+0200
TZOFFSETTO:+0100
TZNAME:CET
DTSTART:20211031T010000
END:STANDARD
BEGIN:DAYLIGHT
TZOFFSETFROM:+0100
TZOFFSETTO:+0200
TZNAME:CEST
DTSTART:20220327T010000
END:DAYLIGHT
BEGIN:STANDARD
TZOFFSETFROM:+0200
TZOFFSETTO:+0100
TZNAME:CET
DTSTART:20221030T010000
END:STANDARD
BEGIN:DAYLIGHT
TZOFFSETFROM:+0100
TZOFFSETTO:+0200
TZNAME:CEST
DTSTART:20230326T010000
END:DAYLIGHT
BEGIN:STANDARD
TZOFFSETFROM:+0200
TZOFFSETTO:+0100
TZNAME:CET
DTSTART:20231029T010000
END:STANDARD
BEGIN:DAYLIGHT
TZOFFSETFROM:+0100
TZOFFSETTO:+0200
TZNAME:CEST
DTSTART:20240331T010000
END:DAYLIGHT
BEGIN:STANDARD
TZOFFSETFROM:+0200
TZOFFSETTO:+0100
TZNAME:CET
DTSTART:20241027T010000
END:STANDARD
END:VTIMEZONE
BEGIN:VEVENT
DTSTART;VALUE=DATE:20230315
DTEND;VALUE=DATE:20230316
DTSTAMP:20260422T090236
CREATED:20230303T073039Z
LAST-MODIFIED:20230303T073249Z
UID:5336-1678838400-1678924799@www.realschule-hoechberg.de
SUMMARY:Cybermobbing - Infoveranstaltung der Polizei für 8. Klassen
DESCRIPTION:
URL:https://www.realschule-hoechberg.de/termin/cybermobbing-infoveranstaltung-der-polizei-fuer-8-klassen-2/
LOCATION:Leopold-Sonnemann-Realschule Höchberg\, Rudolf-Harbig-Platz 7\, Höchberg\, Bayern\, 97204
CATEGORIES:Infoveranstaltung
END:VEVENT
BEGIN:VEVENT
DTSTART;TZID=Europe/Berlin:20211206T103000
DTEND;TZID=Europe/Berlin:20211206T130000
DTSTAMP:20260422T090236
CREATED:20211011T082755Z
LAST-MODIFIED:20211203T110751Z
UID:4502-1638786600-1638795600@www.realschule-hoechberg.de
SUMMARY:BIZ in der LSR für Kl. 9B
DESCRIPTION:Mo: BIZ-Besuch Kl. 9B (3. – 6. Std.) \nMi: BIZ-Besuch Kl. 9D (1. – 4. Std.) \nDo: BIZ-Besuch Kl. 9E (3. – 6. Std.) \nFr: BIZ-Besuch Kl. 9A (1. – 4. Std.)\, Kl. 9C (3. – 6. Std.)
URL:https://www.realschule-hoechberg.de/termin/biz-besuch-kl-9b/
LOCATION:BIZ Würzburg
CATEGORIES:Infoveranstaltung
END:VEVENT
BEGIN:VEVENT
DTSTART;TZID=Europe/Berlin:20211208T080000
DTEND;TZID=Europe/Berlin:20211208T111500
DTSTAMP:20260422T090236
CREATED:20211011T082903Z
LAST-MODIFIED:20211203T110732Z
UID:4505-1638950400-1638962100@www.realschule-hoechberg.de
SUMMARY:BIZ in der LSR für Kl. 9D
DESCRIPTION:Mi: BIZ-Besuch Kl. 9D (1. – 4. Std.) \nDo: BIZ-Besuch Kl. 9E (3. – 6. Std.) \nFr: BIZ-Besuch Kl. 9A (1. – 4. Std.)\, Kl. 9C (3. – 6. Std.)
URL:https://www.realschule-hoechberg.de/termin/biz-besuch-kl-9d/
LOCATION:BIZ Würzburg
CATEGORIES:Infoveranstaltung
END:VEVENT
BEGIN:VEVENT
DTSTART;TZID=Europe/Berlin:20211209T103000
DTEND;TZID=Europe/Berlin:20211209T130000
DTSTAMP:20260422T090236
CREATED:20211011T082958Z
LAST-MODIFIED:20211203T110710Z
UID:4507-1639045800-1639054800@www.realschule-hoechberg.de
SUMMARY:BIZ in der LSR für Kl. 9E
DESCRIPTION:Do: BIZ-Besuch Kl. 9E (3. – 6. Std.) \nFr: BIZ-Besuch Kl. 9A (1. – 4. Std.)\, Kl. 9C (3. – 6. Std.)
URL:https://www.realschule-hoechberg.de/termin/biz-besuch-kl-9e/
LOCATION:BIZ Würzburg
CATEGORIES:Infoveranstaltung
END:VEVENT
BEGIN:VEVENT
DTSTART;VALUE=DATE:20211210
DTEND;VALUE=DATE:20211211
DTSTAMP:20260422T090236
CREATED:20210922T085023Z
LAST-MODIFIED:20211129T100825Z
UID:4450-1639094400-1639180799@www.realschule-hoechberg.de
SUMMARY:Ausgabe 1. Zwischenbericht für die Klassen 5 bis 8
DESCRIPTION:
URL:https://www.realschule-hoechberg.de/termin/ausgabe-1-zwischenbericht-fuer-die-klassen-5-bis-8/
LOCATION:Leopold-Sonnemann-Realschule Höchberg\, Rudolf-Harbig-Platz 7\, Höchberg\, Bayern\, 97204
CATEGORIES:Infoveranstaltung
END:VEVENT
BEGIN:VEVENT
DTSTART;TZID=Europe/Berlin:20211210T080000
DTEND;TZID=Europe/Berlin:20211210T111500
DTSTAMP:20260422T090236
CREATED:20211011T083723Z
LAST-MODIFIED:20211203T110644Z
UID:4515-1639123200-1639134900@www.realschule-hoechberg.de
SUMMARY:BIZ in der LSR für Kl. 9A
DESCRIPTION:Fr: BIZ-Besuch Kl. 9A (1. – 4. Std.)\, Kl. 9C (3. – 6. Std.)
URL:https://www.realschule-hoechberg.de/termin/biz-besuch-kl-9a-2/
LOCATION:BIZ Würzburg
CATEGORIES:Infoveranstaltung
END:VEVENT
BEGIN:VEVENT
DTSTART;TZID=Europe/Berlin:20211210T103000
DTEND;TZID=Europe/Berlin:20211210T130000
DTSTAMP:20260422T090236
CREATED:20211011T083246Z
LAST-MODIFIED:20211203T110622Z
UID:4511-1639132200-1639141200@www.realschule-hoechberg.de
SUMMARY:BIZ in der LSR für Kl. 9C
DESCRIPTION:Fr: BIZ-Besuch Kl. 9A (1. – 4. Std.)\, Kl. 9C (3. – 6. Std.)
URL:https://www.realschule-hoechberg.de/termin/biz-besuch-kl-9c/
LOCATION:BIZ Würzburg
CATEGORIES:Infoveranstaltung
END:VEVENT
BEGIN:VEVENT
DTSTART;TZID=Europe/Berlin:20211223T080000
DTEND;TZID=Europe/Berlin:20211223T111500
DTSTAMP:20260422T090236
CREATED:20210922T084950Z
LAST-MODIFIED:20210922T084950Z
UID:4448-1640246400-1640258100@www.realschule-hoechberg.de
SUMMARY:letzter Schultag vor Weihnachten; Unterrichtsschluss 11:15 Uhr
DESCRIPTION:letzter Schultag vor Weihnachten; Unterrichtsschluss 11:15 Uhr
URL:https://www.realschule-hoechberg.de/termin/letzter-schultag-vor-weihnachten-unterrichtsschluss-1115-uhr/
LOCATION:Leopold-Sonnemann-Realschule Höchberg\, Rudolf-Harbig-Platz 7\, Höchberg\, Bayern\, 97204
CATEGORIES:Sonstiges
END:VEVENT
BEGIN:VEVENT
DTSTART;VALUE=DATE:20211224
DTEND;VALUE=DATE:20220110
DTSTAMP:20260422T090236
CREATED:20210922T084904Z
LAST-MODIFIED:20210922T084904Z
UID:4446-1640304000-1641772799@www.realschule-hoechberg.de
SUMMARY:WEIHNACHTSFERIEN
DESCRIPTION:
URL:https://www.realschule-hoechberg.de/termin/weihnachtsferien-3/
LOCATION:Bayern
CATEGORIES:Sonstiges
END:VEVENT
END:VCALENDAR