BEGIN:VCALENDAR
VERSION:2.0
PRODID:-//Realschule Höchberg - ECPv6.15.14//NONSGML v1.0//EN
CALSCALE:GREGORIAN
METHOD:PUBLISH
X-WR-CALNAME:Realschule Höchberg
X-ORIGINAL-URL:https://www.realschule-hoechberg.de
X-WR-CALDESC:Veranstaltungen für Realschule Höchberg
REFRESH-INTERVAL;VALUE=DURATION:PT1H
X-Robots-Tag:noindex
X-PUBLISHED-TTL:PT1H
BEGIN:VTIMEZONE
TZID:Europe/Berlin
BEGIN:DAYLIGHT
TZOFFSETFROM:+0100
TZOFFSETTO:+0200
TZNAME:CEST
DTSTART:20210328T010000
END:DAYLIGHT
BEGIN:STANDARD
TZOFFSETFROM:+0200
TZOFFSETTO:+0100
TZNAME:CET
DTSTART:20211031T010000
END:STANDARD
BEGIN:DAYLIGHT
TZOFFSETFROM:+0100
TZOFFSETTO:+0200
TZNAME:CEST
DTSTART:20220327T010000
END:DAYLIGHT
BEGIN:STANDARD
TZOFFSETFROM:+0200
TZOFFSETTO:+0100
TZNAME:CET
DTSTART:20221030T010000
END:STANDARD
BEGIN:DAYLIGHT
TZOFFSETFROM:+0100
TZOFFSETTO:+0200
TZNAME:CEST
DTSTART:20230326T010000
END:DAYLIGHT
BEGIN:STANDARD
TZOFFSETFROM:+0200
TZOFFSETTO:+0100
TZNAME:CET
DTSTART:20231029T010000
END:STANDARD
BEGIN:DAYLIGHT
TZOFFSETFROM:+0100
TZOFFSETTO:+0200
TZNAME:CEST
DTSTART:20240331T010000
END:DAYLIGHT
BEGIN:STANDARD
TZOFFSETFROM:+0200
TZOFFSETTO:+0100
TZNAME:CET
DTSTART:20241027T010000
END:STANDARD
END:VTIMEZONE
BEGIN:VEVENT
DTSTART;VALUE=DATE:20230315
DTEND;VALUE=DATE:20230316
DTSTAMP:20260419T213533
CREATED:20230303T073039Z
LAST-MODIFIED:20230303T073249Z
UID:5336-1678838400-1678924799@www.realschule-hoechberg.de
SUMMARY:Cybermobbing - Infoveranstaltung der Polizei für 8. Klassen
DESCRIPTION:
URL:https://www.realschule-hoechberg.de/termin/cybermobbing-infoveranstaltung-der-polizei-fuer-8-klassen-2/
LOCATION:Leopold-Sonnemann-Realschule Höchberg\, Rudolf-Harbig-Platz 7\, Höchberg\, Bayern\, 97204
CATEGORIES:Infoveranstaltung
END:VEVENT
BEGIN:VEVENT
DTSTART;VALUE=DATE:20221031
DTEND;VALUE=DATE:20221105
DTSTAMP:20260419T213533
CREATED:20220914T084317Z
LAST-MODIFIED:20220914T084317Z
UID:5108-1667174400-1667606399@www.realschule-hoechberg.de
SUMMARY:Herbstferien
DESCRIPTION:
URL:https://www.realschule-hoechberg.de/termin/herbstferien/
LOCATION:Bayern
END:VEVENT
BEGIN:VEVENT
DTSTART;TZID=Europe/Berlin:20221115T163000
DTEND;TZID=Europe/Berlin:20221115T193000
DTSTAMP:20260419T213533
CREATED:20220920T105153Z
LAST-MODIFIED:20220920T105153Z
UID:5165-1668529800-1668540600@www.realschule-hoechberg.de
SUMMARY:Elternsprechabend für Klassen 5 / 8 / 9
DESCRIPTION:
URL:https://www.realschule-hoechberg.de/termin/elternsprechabend-fuer-klassen-5-8-9/
LOCATION:Leopold-Sonnemann-Realschule Höchberg\, Rudolf-Harbig-Platz 7\, Höchberg\, Bayern\, 97204
CATEGORIES:Infoveranstaltung
END:VEVENT
BEGIN:VEVENT
DTSTART;TZID=Europe/Berlin:20221123T163000
DTEND;TZID=Europe/Berlin:20221123T193000
DTSTAMP:20260419T213533
CREATED:20220920T105250Z
LAST-MODIFIED:20220920T105250Z
UID:5167-1669221000-1669231800@www.realschule-hoechberg.de
SUMMARY:Elternsprechabend für Klassen 6 / 7 / 10
DESCRIPTION:
URL:https://www.realschule-hoechberg.de/termin/elternsprechabend-fuer-klassen-6-7-10/
LOCATION:Leopold-Sonnemann-Realschule Höchberg\, Rudolf-Harbig-Platz 7\, Höchberg\, Bayern\, 97204
CATEGORIES:Infoveranstaltung
END:VEVENT
BEGIN:VEVENT
DTSTART;VALUE=DATE:20221128
DTEND;VALUE=DATE:20221201
DTSTAMP:20260419T213533
CREATED:20220920T105615Z
LAST-MODIFIED:20220920T105615Z
UID:5169-1669593600-1669852799@www.realschule-hoechberg.de
SUMMARY:TEAMtage Bauersberg für Klasse 7
DESCRIPTION:
URL:https://www.realschule-hoechberg.de/termin/teamtage-bauersberg-fuer-klasse-7/
LOCATION:Bayern
CATEGORIES:Klassenfahrt/ Ausflug
END:VEVENT
BEGIN:VEVENT
DTSTART;VALUE=DATE:20221130
DTEND;VALUE=DATE:20221203
DTSTAMP:20260419T213533
CREATED:20220920T105650Z
LAST-MODIFIED:20220920T105650Z
UID:5171-1669766400-1670025599@www.realschule-hoechberg.de
SUMMARY:TEAMtage Bauersberg für Klasse 7
DESCRIPTION:
URL:https://www.realschule-hoechberg.de/termin/teamtage-bauersberg-fuer-klasse-7-2/
LOCATION:Bayern
CATEGORIES:Klassenfahrt/ Ausflug
END:VEVENT
END:VCALENDAR