BEGIN:VCALENDAR
VERSION:2.0
PRODID:-//Realschule Höchberg - ECPv6.15.14//NONSGML v1.0//EN
CALSCALE:GREGORIAN
METHOD:PUBLISH
X-WR-CALNAME:Realschule Höchberg
X-ORIGINAL-URL:https://www.realschule-hoechberg.de
X-WR-CALDESC:Veranstaltungen für Realschule Höchberg
REFRESH-INTERVAL;VALUE=DURATION:PT1H
X-Robots-Tag:noindex
X-PUBLISHED-TTL:PT1H
BEGIN:VTIMEZONE
TZID:Europe/Berlin
BEGIN:DAYLIGHT
TZOFFSETFROM:+0100
TZOFFSETTO:+0200
TZNAME:CEST
DTSTART:20250330T010000
END:DAYLIGHT
BEGIN:STANDARD
TZOFFSETFROM:+0200
TZOFFSETTO:+0100
TZNAME:CET
DTSTART:20251026T010000
END:STANDARD
BEGIN:DAYLIGHT
TZOFFSETFROM:+0100
TZOFFSETTO:+0200
TZNAME:CEST
DTSTART:20260329T010000
END:DAYLIGHT
BEGIN:STANDARD
TZOFFSETFROM:+0200
TZOFFSETTO:+0100
TZNAME:CET
DTSTART:20261025T010000
END:STANDARD
BEGIN:DAYLIGHT
TZOFFSETFROM:+0100
TZOFFSETTO:+0200
TZNAME:CEST
DTSTART:20270328T010000
END:DAYLIGHT
BEGIN:STANDARD
TZOFFSETFROM:+0200
TZOFFSETTO:+0100
TZNAME:CET
DTSTART:20271031T010000
END:STANDARD
END:VTIMEZONE
BEGIN:VEVENT
DTSTART;TZID=Europe/Berlin:20260305T190000
DTEND;TZID=Europe/Berlin:20260305T203000
DTSTAMP:20260424T070302
CREATED:20260115T075152Z
LAST-MODIFIED:20260115T075152Z
UID:6893-1772737200-1772742600@www.realschule-hoechberg.de
SUMMARY:Elternabend zur Workshopreihe "Dein Smartphone - deine Entscheidung"
DESCRIPTION:
URL:https://www.realschule-hoechberg.de/termin/elternabend-zur-workshopreihe-dein-smartphone-deine-entscheidung/
LOCATION:Bayern
CATEGORIES:Infoveranstaltung
END:VEVENT
END:VCALENDAR