BEGIN:VCALENDAR
VERSION:2.0
PRODID:-//Realschule Höchberg - ECPv6.15.14//NONSGML v1.0//EN
CALSCALE:GREGORIAN
METHOD:PUBLISH
X-WR-CALNAME:Realschule Höchberg
X-ORIGINAL-URL:https://www.realschule-hoechberg.de
X-WR-CALDESC:Veranstaltungen für Realschule Höchberg
REFRESH-INTERVAL;VALUE=DURATION:PT1H
X-Robots-Tag:noindex
X-PUBLISHED-TTL:PT1H
BEGIN:VTIMEZONE
TZID:Europe/Berlin
BEGIN:DAYLIGHT
TZOFFSETFROM:+0100
TZOFFSETTO:+0200
TZNAME:CEST
DTSTART:20250330T010000
END:DAYLIGHT
BEGIN:STANDARD
TZOFFSETFROM:+0200
TZOFFSETTO:+0100
TZNAME:CET
DTSTART:20251026T010000
END:STANDARD
BEGIN:DAYLIGHT
TZOFFSETFROM:+0100
TZOFFSETTO:+0200
TZNAME:CEST
DTSTART:20260329T010000
END:DAYLIGHT
BEGIN:STANDARD
TZOFFSETFROM:+0200
TZOFFSETTO:+0100
TZNAME:CET
DTSTART:20261025T010000
END:STANDARD
BEGIN:DAYLIGHT
TZOFFSETFROM:+0100
TZOFFSETTO:+0200
TZNAME:CEST
DTSTART:20270328T010000
END:DAYLIGHT
BEGIN:STANDARD
TZOFFSETFROM:+0200
TZOFFSETTO:+0100
TZNAME:CET
DTSTART:20271031T010000
END:STANDARD
END:VTIMEZONE
BEGIN:VEVENT
DTSTART;VALUE=DATE:20260511
DTEND;VALUE=DATE:20260514
DTSTAMP:20260424T070241
CREATED:20260113T080245Z
LAST-MODIFIED:20260113T080245Z
UID:6874-1778457600-1778716799@www.realschule-hoechberg.de
SUMMARY:Anmeldewoche für neue 5.-Klässler (inkl. Voranmeldung aus MS 5)
DESCRIPTION:
URL:https://www.realschule-hoechberg.de/termin/anmeldewoche-fuer-neue-5-klaessler-inkl-voranmeldung-aus-ms-5/
LOCATION:Leopold-Sonnemann-Realschule Höchberg\, Rudolf-Harbig-Platz 7\, Höchberg\, Bayern\, 97204
CATEGORIES:Anmeldung/ Tests
END:VEVENT
BEGIN:VEVENT
DTSTART;VALUE=DATE:20260519
DTEND;VALUE=DATE:20260522
DTSTAMP:20260424T070241
CREATED:20260113T080355Z
LAST-MODIFIED:20260113T080355Z
UID:6876-1779148800-1779407999@www.realschule-hoechberg.de
SUMMARY:Probeunterricht
DESCRIPTION:
URL:https://www.realschule-hoechberg.de/termin/probeunterricht-6/
LOCATION:Leopold-Sonnemann-Realschule Höchberg\, Rudolf-Harbig-Platz 7\, Höchberg\, Bayern\, 97204
CATEGORIES:Anmeldung/ Tests
END:VEVENT
END:VCALENDAR